BEGIN:VCALENDAR
VERSION:2.0
PRODID:icalendar-ruby
CALSCALE:GREGORIAN
METHOD:PUBLISH
BEGIN:VEVENT
DTSTAMP:20260421T133937Z
UID:5-1602687@firstbaptist297.tithelysetup2.com
DTSTART:20260426T150000Z
DTEND:20260426T160000Z
CLASS:PUBLIC
CREATED:20260421T083538
DESCRIPTION:Sunday Worship
LAST-MODIFIED:20260421T083538
LOCATION:
SUMMARY:Sunday Worship
URL;VALUE=URI:https://fbcmh.org/events/sunday-worship/2026-04-26
END:VEVENT
END:VCALENDAR
