BEGIN:VCALENDAR
VERSION:2.0
PRODID:icalendar-ruby
CALSCALE:GREGORIAN
METHOD:PUBLISH
BEGIN:VEVENT
DTSTAMP:20260421T152111Z
UID:5-1603067@firstbaptist297.tithelysetup2.com
DTSTART:20260503T150000Z
DTEND:20260503T160000Z
CLASS:PUBLIC
CREATED:20260421T111117
DESCRIPTION:Sunday Worship
LAST-MODIFIED:20260421T111117
LOCATION:
SUMMARY:Sunday Worship
URL;VALUE=URI:https://fbcmh.org/events/sunday-worship/2026-05-03
END:VEVENT
END:VCALENDAR
