BEGIN:VCALENDAR
VERSION:2.0
PRODID:icalendar-ruby
CALSCALE:GREGORIAN
METHOD:PUBLISH
BEGIN:VEVENT
DTSTAMP:20260421T182920Z
UID:5-1603448@firstbaptist297.tithelysetup2.com
DTSTART:20260517T150000Z
DTEND:20260517T160000Z
CLASS:PUBLIC
CREATED:20260421T135131
DESCRIPTION:Sunday Worship
LAST-MODIFIED:20260421T135131
LOCATION:
SUMMARY:Sunday Worship
URL;VALUE=URI:https://fbcmh.org/events/sunday-worship/2026-05-17
END:VEVENT
END:VCALENDAR
