BEGIN:VCALENDAR
VERSION:2.0
PRODID:icalendar-ruby
CALSCALE:GREGORIAN
METHOD:PUBLISH
BEGIN:VEVENT
DTSTAMP:20260421T232644Z
UID:5-1604209@firstbaptist297.tithelysetup2.com
DTSTART:20260607T150000Z
DTEND:20260607T160000Z
CLASS:PUBLIC
CREATED:20260421T190555
DESCRIPTION:Sunday Worship
LAST-MODIFIED:20260421T190555
LOCATION:
SUMMARY:Sunday Worship
URL;VALUE=URI:https://fbcmh.org/events/sunday-worship/2026-06-07
END:VEVENT
END:VCALENDAR
