BEGIN:VCALENDAR
VERSION:2.0
PRODID:icalendar-ruby
CALSCALE:GREGORIAN
METHOD:PUBLISH
BEGIN:VEVENT
DTSTAMP:20260422T072106Z
UID:5-1604593@firstbaptist297.tithelysetup2.com
DTSTART:20260712T150000Z
DTEND:20260712T160000Z
CLASS:PUBLIC
CREATED:20260421T214412
DESCRIPTION:Sunday Worship
LAST-MODIFIED:20260421T214412
LOCATION:
SUMMARY:Sunday Worship
URL;VALUE=URI:https://fbcmh.org/events/sunday-worship/2026-07-12
END:VEVENT
END:VCALENDAR
