BEGIN:VCALENDAR
VERSION:2.0
PRODID:icalendar-ruby
CALSCALE:GREGORIAN
METHOD:PUBLISH
BEGIN:VEVENT
DTSTAMP:20260424T095528Z
UID:5-1609143@firstbaptist297.tithelysetup2.com
DTSTART:20260726T150000Z
DTEND:20260726T160000Z
CLASS:PUBLIC
CREATED:20260423T232625
DESCRIPTION:Sunday Worship
LAST-MODIFIED:20260423T232625
LOCATION:
SUMMARY:Sunday Worship
URL;VALUE=URI:https://fbcmh.org/events/sunday-worship/2026-07-26
END:VEVENT
END:VCALENDAR
