BEGIN:VCALENDAR
VERSION:2.0
PRODID:icalendar-ruby
CALSCALE:GREGORIAN
METHOD:PUBLISH
BEGIN:VEVENT
DTSTAMP:20260424T112030Z
UID:5-1609144@firstbaptist297.tithelysetup2.com
DTSTART:20260802T150000Z
DTEND:20260802T160000Z
CLASS:PUBLIC
CREATED:20260423T232625
DESCRIPTION:Sunday Worship
LAST-MODIFIED:20260423T232625
LOCATION:
SUMMARY:Sunday Worship
URL;VALUE=URI:https://fbcmh.org/events/sunday-worship/2026-08-02
END:VEVENT
END:VCALENDAR
