BEGIN:VCALENDAR
VERSION:2.0
PRODID:icalendar-ruby
CALSCALE:GREGORIAN
METHOD:PUBLISH
BEGIN:VEVENT
DTSTAMP:20260424T125531Z
UID:5-1609524@firstbaptist297.tithelysetup2.com
DTSTART:20260809T150000Z
DTEND:20260809T160000Z
CLASS:PUBLIC
CREATED:20260424T085426
DESCRIPTION:Sunday Worship
LAST-MODIFIED:20260424T085426
LOCATION:
SUMMARY:Sunday Worship
URL;VALUE=URI:https://fbcmh.org/events/sunday-worship/2026-08-09
END:VEVENT
END:VCALENDAR
