BEGIN:VCALENDAR
VERSION:2.0
PRODID:icalendar-ruby
CALSCALE:GREGORIAN
METHOD:PUBLISH
BEGIN:VEVENT
DTSTAMP:20260424T160854Z
UID:5-1609905@firstbaptist297.tithelysetup2.com
DTSTART:20260823T150000Z
DTEND:20260823T160000Z
CLASS:PUBLIC
CREATED:20260424T114702
DESCRIPTION:Sunday Worship
LAST-MODIFIED:20260424T114702
LOCATION:
SUMMARY:Sunday Worship
URL;VALUE=URI:https://fbcmh.org/events/sunday-worship/2026-08-23
END:VEVENT
END:VCALENDAR
