BEGIN:VCALENDAR
VERSION:2.0
PRODID:icalendar-ruby
CALSCALE:GREGORIAN
METHOD:PUBLISH
BEGIN:VEVENT
DTSTAMP:20260424T194039Z
UID:5-1610286@firstbaptist297.tithelysetup2.com
DTSTART:20260906T150000Z
DTEND:20260906T160000Z
CLASS:PUBLIC
CREATED:20260424T143220
DESCRIPTION:Sunday Worship
LAST-MODIFIED:20260424T143220
LOCATION:
SUMMARY:Sunday Worship
URL;VALUE=URI:https://fbcmh.org/events/sunday-worship/2026-09-06
END:VEVENT
END:VCALENDAR
